BEGIN:VCALENDAR
VERSION:2.0
PRODID:-//Library Market//iCal Export//EN
BEGIN:VEVENT
SUMMARY:125th New Britain Institute Birthday Celebration
UID:7299
DTSTAMP:20260420T121500Z
DTSTART:20260516T140000Z
DTEND:20260516T200000Z
LOCATION:20 High St, New Britain, CT 06051, United States
ROOM: Community Room Full
DESCRIPTION:HAPPY 125th BIRTHDAY to the New Britain Institute and the New 
 Britain Public Library!! Come CELEBRATE with us! There will be cake, ballo
 ons, and more! 
URL:https://www.newbritainlibrary.org/event/new-britain-institutelibrary-b
 irthday-celebration-7299
END:VEVENT
END:VCALENDAR
