BEGIN:VCALENDAR
VERSION:2.0
PRODID:-//Library Market//iCal Export//EN
BEGIN:VEVENT
SUMMARY:Fandom Trivia Showdown
UID:8470
DTSTAMP:20260420T090300Z
DTSTART:20260518T203000Z
DTEND:20260518T213000Z
LOCATION:20 High St, New Britain, CT 06051, United States
ROOM: Community Room Large
DESCRIPTION:From Marvel and anime, to gaming and fantasy, test your fandom
  knowledge in this team trivia showdown! Prizes will be awarded to the ult
 imate champions!
URL:https://www.newbritainlibrary.org/event/fandom-trivia-showdown-8470
END:VEVENT
END:VCALENDAR
