BEGIN:VCALENDAR
VERSION:2.0
PRODID:-//Library Market//iCal Export//EN
BEGIN:VEVENT
SUMMARY:Slide Show with Jimmy Golon - Construction of Route 72
UID:8562
DTSTAMP:20260421T142900Z
DTSTART:20260518T220000Z
DTEND:20260518T230000Z
LOCATION:20 High St, New Britain, CT 06051, United States
ROOM: Community Room Full
DESCRIPTION:Join us for a slideshow presentation, by Jimmy Golon, about th
 e construction of the highway through the center of New Britain between th
 e late 1960s through 1978.
URL:https://www.newbritainlibrary.org/event/slide-show-jimmy-golon-8562
END:VEVENT
END:VCALENDAR
