BEGIN:VCALENDAR
VERSION:2.0
PRODID:-//Library Market//iCal Export//EN
BEGIN:VEVENT
SUMMARY:Veterans For Peace presents John F. Kennedy&#039;s &quot;Peace Spe
 ech&quot; of 1963.
UID:9209
DTSTAMP:20260420T090300Z
DTSTART:20260502T150000Z
DTEND:20260502T163000Z
LOCATION:20 High St, New Britain, CT 06051, United States
ROOM: Study Room 3
DESCRIPTION:A public screening of John F. Kennedy&#039;s 1963 &quot;Peace 
 Speech&quot;, presented by Veterans for Peace and the Community Church of 
 Boston. Space is limited. Registration required.This is not a library spo
 nsored event.
URL:https://www.newbritainlibrary.org/event/veterans-peace-presents-john-f
 -kennedys-peace-speech-1963-9209
END:VEVENT
END:VCALENDAR
