BEGIN:VCALENDAR
VERSION:2.0
PRODID:-//Library Market//iCal Export//EN
BEGIN:VEVENT
SUMMARY:UpWard Mobility Tabling
UID:9237
DTSTAMP:20260420T115500Z
DTSTART:20260513T190000Z
DTEND:20260513T203000Z
LOCATION:20 High St, New Britain, CT 06051, United States
ROOM: First Floor Lobby Tables
DESCRIPTION:UpWard Mobility is a coaching program that helps adults become
  more self-sufficient in every area of life. Each UpWard Mobility program 
 ​​participant is paired with an Empowerment Coach who serves as a supp
 ortive thought partner in their journey. 
URL:https://www.newbritainlibrary.org/event/upward-mobility-tabling-9237
END:VEVENT
END:VCALENDAR
