BEGIN:VCALENDAR
VERSION:2.0
PRODID:-//Library Market//iCal Export//EN
BEGIN:VEVENT
SUMMARY:Beyond the Spectrum: All Abilities Fair
UID:9307
DTSTAMP:20260421T222200Z
DTSTART:20260429T210000Z
DTEND:20260429T223000Z
LOCATION:New Britain Board of Education, 110 Mill Street, New Britain, CT 
 06051, United States
ROOM: Beyond the Spectrum: All Abilities Fair
DESCRIPTION:Alongside many fun, engaging activities, this fair offers anop
 portunity to connect with a wide variety of resources tohelp support both 
 children and adults in New Britain.New Britain High School110 Mill Street,
  New BritainEvent Sponsored byConsolidated School District of New Britain,
 New Britain Recreation and Community Services,and Hospital for Special Car
 eWEDNESDAY, APRIL 29 • 5:00PM - 6:30PMACTIVITIES INCLUDEGames, Face Pain
 ting, Photo Booth, LEGO Experience, and more!FREE ADMISSION. REFRESHMENTS 
 WILL BE AVAILABLE.PLEASE REGISTER TO ATTEND.Registration Link!
URL:https://www.newbritainlibrary.org/event/beyond-spectrum-all-abilities-
 fair-9307
END:VEVENT
END:VCALENDAR
